BEGIN:VCALENDAR
VERSION:2.0
PRODID:-//eventon.com NONSGML v1.0//EN
CALSCALE:GREGORIAN
METHOD:PUBLISH
BEGIN:VEVENT
UID:69eb4b6b43cb5
DTSTAMP:20260424T105227Z
DTSTART:20260430T164500Z
DTEND:20260430T235000Z
LOCATION:
SUMMARY:Maibaum aufstellen
DESCRIPTION:Traditionelles aufsetzen des Hüstener Maibaumes.\nhttps://spie
 lmannszug-in-treue-fest-huesten.de/events/maibaum-aufstellen/
URL:https://spielmannszug-in-treue-fest-huesten.de/events/maibaum-aufstellen/
END:VEVENT
END:VCALENDAR